Workbook
Name 浙江省: #REF!
Name 江苏省: #REF!
Name 江西省: #REF!
Name 湖北省: #REF!
Name 安徽省: #REF!
Name 广东省: #REF!
Name 河北省: #REF!
Name 河南省: #REF!
Name 湖南省: #REF!
Name 吉林省: #REF!
Name 辽宁省: #REF!
Name 山东省: #REF!
Name 山西省: #REF!
Name 四川省: #REF!
Name 云南省: #REF!
Name 海南省: #REF!
Name 内蒙古: #REF!
Name 西藏: #REF!
Name 杭州市: #REF!
Name 温州市: #REF!
Name 丽水市: #REF!
Name 台州市: #REF!
Name 嘉兴市: #REF!
Name 宁波市: #REF!
Name 绍兴市: #REF!
Name 舟山市: #REF!
Name 衢州市: #REF!
Name 金华市: #REF!
Name 湖州市: #REF!
Name 宁夏: #REF!
Name 广西: #REF!
Name 新疆: #REF!
Name 上海市: #REF!
Name 天津市: #REF!
Name 北京市: #REF!
Name 重庆市: #REF!
Name 直辖市: #REF!
Name 昆明市: #REF!
Name 曲靖市: #REF!
Name 玉溪市: #REF!
Name 昭通地区: #REF!
Name 楚雄自治州: #REF!
Name 楚雄彝族自治州: #REF!
Name 红河哈尼族彝族自治州: #REF!
Name 文山壮族苗族自治州: #REF!
Name 思茅市: #REF!
Name 西双版纳傣族自治州: #REF!
Name 大理白族自治州: #REF!
Name 保山地区: #REF!
Name 德宏傣族景颇族自治州: #REF!
Name 丽江地区: #REF!
Name 怒江傈僳族自治州: #REF!
Name 迪庆藏族自治州: #REF!
Name 临沧地区: #REF!

Sheet 钢管壁厚计算
B2: 常温输水钢管壁厚计算（DN15~DN300) | G2: ="消防管道壁厚计算表（与左表联动，钢材："&C7&","&B3&C3&")" -> 消防管道壁厚计算表（与左表联动，钢材：Q235B,计算公式依据GB50332)
B3: 计算公式依据 | C3: GB50332 | D3: 许用应力[σ]t（MPa） | E3: =VLOOKUP($C$7,钢管性能参数!$B$5:$E$18,4,1) -> 113 | G3: 公称直径 (mm) | H3: 管子 外径 (mm) | I3: 工作压力MPa | J3: 最小计 算壁厚t0(mm) | K3: 腐蚀 裕度 C2(mm) | L3: 加工 减薄量 C1(mm) | M3: 壁厚 负偏差 C3(mm) | N3: 最小设计壁厚 t(mm) | P3: 选用壁厚 | Q3: 每米 重量 (kg) | R3: 壁厚 校核 | S3: 连接 方式
B4: 管道外径系列 | C4: 系列I | D4: 设计抗拉强度f(MPa) | E4: =VLOOKUP($C$7,钢管性能参数!$B$5:$E$18,3,1) -> 215 | P4: 普通钢管
B5: 管道公称直径DN | C5: 300 | D5: 管道外径D（mm） | E5: =VLOOKUP(C5,管道规格!B5:M43,_xlfn.IFS(C4="系列I",2,C4="系列II",3,C4="ASME",4),0) -> 323.9 | G5: 15 | H5: =VLOOKUP(G5,管道规格!$B$5:$M$43,_xlfn.IFS($C$4="系列I",2,$C$4="系列II",3,$C$4="ASME",3),0) -> 21.3 | I5: =$C$6 -> 1.6 | J5: =IF($C$3="GB/T20801",$C$6*H5/(2*$E$3*$E$7),1.4*$E$6*H5/(2*$E$4)) -> 0.14563256 | K5: =$E$9 -> 0 | L5: 1.162 | M5: =(J5+K5+L5)*0.125 -> 0.16345407 | N5: =SUM(J5:M5) -> 1.4710866 | P5: =VLOOKUP(G5,管道规格!R5:V16,_xlfn.IFS($P$4="最小壁厚",2,$P$4="普通钢管",3,$P$4="加厚钢管",4,$P$4="Sch80",5),1) -> 2.8 | Q5: =0.0246615*(H5-P5)*P5 -> 1.2774657 | R5: =IF(P5-N5>=0,"OK!","NO!") -> OK! | S5: 丝接
B6: 工作压力Fwk(MPa) | C6: 1.6 | D6: 计算压力Fwk,k(MPa) | E6: =IF(C6+0.5<=0.9,0.9,C6+0.5) -> 2.1 | G6: 20 | H6: =VLOOKUP(G6,管道规格!$B$5:$M$43,_xlfn.IFS($C$4="系列I",2,$C$4="系列II",3,$C$4="ASME",3),0) -> 26.9 | I6: =$C$6 -> 1.6 | J6: =IF($C$3="GB/T20801",$C$6*H6/(2*$E$3*$E$7),1.4*$E$6*H6/(2*$E$4)) -> 0.18392093 | K6: =$E$9 -> 0 | L6: =L5 -> 1.162 | M6: =(J6+K6+L6)*0.125 -> 0.16824012 | N6: =SUM(J6:M6) -> 1.514161 | P6: =VLOOKUP(G6,管道规格!R6:V17,_xlfn.IFS($P$4="最小壁厚",2,$P$4="普通钢管",3,$P$4="加厚钢管",4,$P$4="Sch80",5),1) -> 2.8 | Q6: =0.0246615*(H6-P6)*P6 -> 1.664158 | R6: =IF(P6-N6>=0,"OK!","NO!") -> OK!
B7: 管道用钢牌号 | C7: Q235B | D7: 焊缝系数ψ | E7: =_xlfn.IFS(C8="无缝",1,C8="直缝焊接",0.8,C8="螺旋焊接",0.6) -> 0.8 | G7: 25 | H7: =VLOOKUP(G7,管道规格!$B$5:$M$43,_xlfn.IFS($C$4="系列I",2,$C$4="系列II",3,$C$4="ASME",3),0) -> 33.7 | I7: =$C$6 -> 1.6 | J7: =IF($C$3="GB/T20801",$C$6*H7/(2*$E$3*$E$7),1.4*$E$6*H7/(2*$E$4)) -> 0.23041395 | K7: =$E$9 -> 0 | L7: 1.479 | M7: =(J7+K7+L7)*0.125 -> 0.21367674 | N7: =SUM(J7:M7) -> 1.9230907 | P7: =VLOOKUP(G7,管道规格!R7:V18,_xlfn.IFS($P$4="最小壁厚",2,$P$4="普通钢管",3,$P$4="加厚钢管",4,$P$4="Sch80",5),1) -> 3.2 | Q7: =0.0246615*(H7-P7)*P7 -> 2.4069624 | R7: =IF(P7-N7>=0,"OK!","NO!") -> OK!
B8: 管材制造方式 | C8: 直缝焊接 | D8: 加工减薄量C1（mm） | E8: =IF(C9="焊接",0,VLOOKUP(C5,管道规格!B5:H43,_xlfn.IFS(C9="卡箍",7,C9="螺纹",6),0)) -> 2.5 | G8: 32 | H8: =VLOOKUP(G8,管道规格!$B$5:$M$43,_xlfn.IFS($C$4="系列I",2,$C$4="系列II",3,$C$4="ASME",3),0) -> 42.4 | I8: =$C$6 -> 1.6 | J8: =IF($C$3="GB/T20801",$C$6*H8/(2*$E$3*$E$7),1.4*$E$6*H8/(2*$E$4)) -> 0.28989767 | K8: =$E$9 -> 0 | L8: =L7 -> 1.479 | M8: =(J8+K8+L8)*0.125 -> 0.22111221 | N8: =SUM(J8:M8) -> 1.9900099 | P8: =VLOOKUP(G8,管道规格!R8:V19,_xlfn.IFS($P$4="最小壁厚",2,$P$4="普通钢管",3,$P$4="加厚钢管",4,$P$4="Sch80",5),1) -> 3.5 | Q8: =0.0246615*(H8-P8)*P8 -> 3.3576632 | R8: =IF(P8-N8>=0,"OK!","NO!") -> OK!
B9: 管道连接方式 | C9: 卡箍 | D9: 腐蚀裕度C2（mm） | E9: =_xlfn.IFS(C10="微腐蚀",0.5,C10="单面腐蚀",1,C10="双面腐蚀",2,C10="不腐蚀",0) -> 0 | G9: 40 | H9: =VLOOKUP(G9,管道规格!$B$5:$M$43,_xlfn.IFS($C$4="系列I",2,$C$4="系列II",3,$C$4="ASME",3),0) -> 48.3 | I9: =$C$6 -> 1.6 | J9: =IF($C$3="GB/T20801",$C$6*H9/(2*$E$3*$E$7),1.4*$E$6*H9/(2*$E$4)) -> 0.33023721 | K9: =$E$9 -> 0 | L9: =L8 -> 1.479 | M9: =(J9+K9+L9)*0.125 -> 0.22615465 | N9: =SUM(J9:M9) -> 2.0353919 | P9: =VLOOKUP(G9,管道规格!R9:V20,_xlfn.IFS($P$4="最小壁厚",2,$P$4="普通钢管",3,$P$4="加厚钢管",4,$P$4="Sch80",5),1) -> 3.5 | Q9: =0.0246615*(H9-P9)*P9 -> 3.8669232 | R9: =IF(P9-N9>=0,"OK!","NO!") -> OK!
B10: 腐蚀情况 | C10: 不腐蚀 | D10: 壁厚负偏差C3 | E10: =(E11+E8+E9)*0.125 -> 0.58932151 | G10: 50 | H10: =VLOOKUP(G10,管道规格!$B$5:$M$43,_xlfn.IFS($C$4="系列I",2,$C$4="系列II",3,$C$4="ASME",3),0) -> 60.3 | I10: =$C$6 -> 1.6 | J10: =IF($C$3="GB/T20801",$C$6*H10/(2*$E$3*$E$7),1.4*$E$6*H10/(2*$E$4)) -> 0.41228372 | K10: =$E$9 -> 0 | L10: =L9 -> 1.479 | M10: =(J10+K10+L10)*0.125 -> 0.23641047 | N10: =SUM(J10:M10) -> 2.1276942 | P10: =VLOOKUP(G10,管道规格!R10:V21,_xlfn.IFS($P$4="最小壁厚",2,$P$4="普通钢管",3,$P$4="加厚钢管",4,$P$4="Sch80",5),1) -> 3.8 | Q10: =0.0246615*(H10-P10)*P10 -> 5.294824 | R10: =IF(P10-N10>=0,"OK!","NO!") -> OK!
B11: 选用壁厚（mm） | C11: 5.3 | D11: 计算最小壁厚t0（mm） | E11: =IF(C3="GB/T20801",C6*E5/(2*E3*E7),1.4*E6*E5/(2*E4)) -> 2.2145721 | G11: 65 | H11: =VLOOKUP(G11,管道规格!$B$5:$M$43,_xlfn.IFS($C$4="系列I",2,$C$4="系列II",3,$C$4="ASME",3),0) -> 73 | I11: =$C$6 -> 1.6 | J11: =IF($C$3="GB/T20801",$C$6*H11/(2*$E$3*$E$7),1.4*$E$6*H11/(2*$E$4)) -> 0.49911628 | K11: =$E$9 -> 0 | L11: =L10 -> 1.479 | M11: =(J11+K11+L11)*0.125 -> 0.24726453 | N11: =SUM(J11:M11) -> 2.2253808 | P11: =VLOOKUP(G11,管道规格!R11:V22,_xlfn.IFS($P$4="最小壁厚",2,$P$4="普通钢管",3,$P$4="加厚钢管",4,$P$4="Sch80",5),1) -> 4 | Q11: =0.0246615*(H11-P11)*P11 -> 6.806574 | R11: =IF(P11-N11>=0,"OK!","NO!") -> OK!
B12: 管道单重(kg/m) | C12: =0.0246615*(E5-C11)*C11 -> 41.642916 | D12: 设计最小壁厚t（mm） | E12: =E11+E8+E9+E10 -> 5.3038936 | G12: 80 | H12: =VLOOKUP(G12,管道规格!$B$5:$M$43,_xlfn.IFS($C$4="系列I",2,$C$4="系列II",3,$C$4="ASME",3),0) -> 88.9 | I12: =$C$6 -> 1.6 | J12: =IF($C$3="GB/T20801",$C$6*H12/(2*$E$3*$E$7),1.4*$E$6*H12/(2*$E$4)) -> 0.60782791 | K12: =$E$9 -> 0 | L12: 2.2 | M12: =(J12+K12+L12)*0.125 -> 0.35097849 | N12: =SUM(J12:M12) -> 3.1588064 | P12: =VLOOKUP(G12,管道规格!R12:V23,_xlfn.IFS($P$4="最小壁厚",2,$P$4="普通钢管",3,$P$4="加厚钢管",4,$P$4="Sch80",5),1) -> 4 | Q12: =0.0246615*(H12-P12)*P12 -> 8.3750454 | R12: =IF(P12-N12>=0,"OK!","NO!") -> OK! | S12: 卡箍连接
B13: 极限强度校核计算（按照t0） | G13: 100 | H13: =VLOOKUP(G13,管道规格!$B$5:$M$43,_xlfn.IFS($C$4="系列I",2,$C$4="系列II",3,$C$4="ASME",3),0) -> 114.3 | I13: =$C$6 -> 1.6 | J13: =IF($C$3="GB/T20801",$C$6*H13/(2*$E$3*$E$7),1.4*$E$6*H13/(2*$E$4)) -> 0.78149302 | K13: =$E$9 -> 0 | L13: 2.2 | M13: =(J13+K13+L13)*0.125 -> 0.37268663 | N13: =SUM(J13:M13) -> 3.3541797 | P13: =VLOOKUP(G13,管道规格!R13:V24,_xlfn.IFS($P$4="最小壁厚",2,$P$4="普通钢管",3,$P$4="加厚钢管",4,$P$4="Sch80",5),1) -> 4 | Q13: =0.0246615*(H13-P13)*P13 -> 10.880654 | R13: =IF(P13-N13>=0,"OK!","NO!") -> OK!
B14: 闭合温差(℃) | C14: 25 | D14: 膨胀系数α(1/℃) | E14: =VLOOKUP($C$7,钢管性能参数!$B$5:$F$18,5,1) -> 1.2e-05 | G14: 125 | H14: =VLOOKUP(G14,管道规格!$B$5:$M$43,_xlfn.IFS($C$4="系列I",2,$C$4="系列II",3,$C$4="ASME",3),0) -> 141.3 | I14: =$C$6 -> 1.6 | J14: =IF($C$3="GB/T20801",$C$6*H14/(2*$E$3*$E$7),1.4*$E$6*H14/(2*$E$4)) -> 0.96609767 | K14: =$E$9 -> 0 | L14: 2.2 | M14: =(J14+K14+L14)*0.125 -> 0.39576221 | N14: =SUM(J14:M14) -> 3.5618599 | P14: =VLOOKUP(G14,管道规格!R14:V25,_xlfn.IFS($P$4="最小壁厚",2,$P$4="普通钢管",3,$P$4="加厚钢管",4,$P$4="Sch80",5),1) -> 4 | Q14: =0.0246615*(H14-P14)*P14 -> 13.544096 | R14: =IF(P14-N14>=0,"OK!","NO!") -> OK!
B15: 环向应力σθ(MPa) | C15: =0.7*E6*E5/E11 -> 215 | D15: 纵向应力σx(MPa) | E15: =0.3*C15+1.4*E14*2.06*10^5*$C$14 -> 151.02 | G15: 150 | H15: =VLOOKUP(G15,管道规格!$B$5:$M$43,_xlfn.IFS($C$4="系列I",2,$C$4="系列II",3,$C$4="ASME",3),0) -> 168.3 | I15: =$C$6 -> 1.6 | J15: =IF($C$3="GB/T20801",$C$6*H15/(2*$E$3*$E$7),1.4*$E$6*H15/(2*$E$4)) -> 1.1507023 | K15: =$E$9 -> 0 | L15: 2.2 | M15: =(J15+K15+L15)*0.125 -> 0.41883779 | N15: =SUM(J15:M15) -> 3.7695401 | P15: =VLOOKUP(G15,管道规格!R15:V26,_xlfn.IFS($P$4="最小壁厚",2,$P$4="普通钢管",3,$P$4="加厚钢管",4,$P$4="Sch80",5),1) -> 4.5 | Q15: =0.0246615*(H15-P15)*P15 -> 18.177992 | R15: =IF(P15-N15>=0,"OK!","NO!") -> OK!
B16: 折算应力σ(MPa) | C16: =0.9*(C15^2+E15^2-C15*E15)^0.5 -> 172.09247 | D16: 强度极限校核 | E16: =IF(1.1*C16<=E4,"0k!","NO!") -> 0k! | G16: 200 | H16: =VLOOKUP(G16,管道规格!$B$5:$M$43,_xlfn.IFS($C$4="系列I",2,$C$4="系列II",3,$C$4="ASME",3),0) -> 219.1 | I16: =$C$6 -> 1.6 | J16: =IF($C$3="GB/T20801",$C$6*H16/(2*$E$3*$E$7),1.4*$E$6*H16/(2*$E$4)) -> 1.4980326 | K16: =$E$9 -> 0 | L16: 2.5 | M16: =(J16+K16+L16)*0.125 -> 0.49975407 | N16: =SUM(J16:M16) -> 4.4977866 | P16: =VLOOKUP(G16,管道规格!R16:V27,_xlfn.IFS($P$4="最小壁厚",2,$P$4="普通钢管",3,$P$4="加厚钢管",4,$P$4="Sch80",5),1) -> 6 | Q16: =0.0246615*(H16-P16)*P16 -> 31.532194 | R16: =IF(P16-N16>=0,"OK!","NO!") -> OK!
B18: 《压力管道规范 工业管道 》GB/T 20801-2006 | G18: 《给水排水工程管道结构设计规范》GB50332-2002 | O18: 注： 1、本计算仅适用常温状态下的小管径架空钢管直线管段的壁厚计算。计算时仅考虑内水压及温度作用。 2、强度极限校核是按照《给水排水工程管道结构设计规范》GB50332-2002进行的。 杭州汽轮工程有限公司设计院 王忠举 2021.09.16 QQ：370304807
B19: 计算公式： | C19: t0=FwkD/(2[σ]tψ)+C | G19: 计算公式： | I19: t0=1.4Fwk，kD/(2f）+C
B20: 式中： | C20: t0－管道计算最小壁厚，mm； | G20: 式中： | I20: t0－管道计算最小壁厚，mm；
C21: Fwk－系统工作压力，Mpa； | I21: Fwk,k－设计计算压力，Mpa；
C22: D－管道外径，mm； | I22: D－管道外径，mm；
C23: [σ]t－设计温度下管子材料的许用应力，MPa； | I23: f－设计温度下管子材料的设计抗拉强度应力，MPa；
C24: ψ－焊缝系数；
C25: C－管子壁厚的附加裕量(包括腐蚀裕度、壁厚负偏差和加工减薄量)，mm。 | I25: C－管子壁厚的附加裕量(包括腐蚀裕度、壁厚负偏差和加工减薄量)，mm。

Sheet 管道规格
B2: 1 | C2: 2 | D2: 3 | E2: 4 | F2: 5 | G2: 6 | H2: 7 | I2: 8 | J2: 9 | K2: 1 | L2: 2 | M2: 3 | N2: 4 | O2: 5 | R2: 1 | S2: 2 | T2: 3 | U2: 4 | V2: 5
A3: 序号 | B3: 公称直径DN | C3: 钢管 | D3: 钢管 | E3: 钢管 | F3: 铸铁管 | G3: 钢管 | H3: 钢管 | I3: 钢管 | J3: 钢管 | K3: 公称直径DN | L3: 铸铁管 | M3: 混凝土管 | N3: 塑料管 | O3: 钢管 | P3: 铸铁给水管 | Q3: 铸铁给水管 | R3: 公称直径DN | S3: 管道壁厚GB/T3091 | V3: ASME
C4: 外径I(mm) | D4: 外径II(mm) | E4: 外径ASME(mm) | F4: 外径(mm) | G4: 丝扣加工减薄量 | H4: 沟槽加工减薄量 | I4: 普通钢管壁厚mm | J4: 加厚钢管壁厚mm | L4: 内径dj | M4: 内径dj | N4: 内径dj | O4: 普通II内径dj | P4: K9级内径dj | Q4: K9最小壁厚 | S4: 最小壁厚 | T4: 普通钢管 | U4: 加厚钢管 | V4: Sch80 | W4: 钢管
A5: 1 | B5: 15 | C5: 21.3 | D5: 18 | E5: 21.3 | F5: 无 | G5: 1.162 | H5: 修改连接 | I5: 2.8 | J5: 3.5 | K5: 15 | L5: 无 | M5: 无 | N5: 无 | O5: =D5-I5*2 -> 12.4 | P5: 无 | Q5: 无 | R5: 15 | S5: 2.2 | T5: 2.8 | U5: 3.5 | V5: 3.73 | W5: 系列I
A6: 2 | B6: 20 | C6: 26.9 | D6: 25 | E6: 26.7 | F6: 无 | G6: =G5 -> 1.162 | H6: 1.5 | I6: 2.8 | J6: 3.5 | K6: 20 | L6: 无 | M6: 无 | N6: 无 | O6: =D6-I6*2 -> 19.4 | P6: 无 | Q6: 无 | R6: 20 | S6: 2.2 | T6: 2.8 | U6: 3.5 | V6: 3.91 | W6: 系列II
A7: 3 | B7: 25 | C7: 33.7 | D7: 32 | E7: 33.4 | F7: 无 | G7: 1.479 | H7: 1.8 | I7: 3.2 | J7: 4 | K7: 25 | L7: 无 | M7: 无 | N7: 无 | O7: =D7-I7*2 -> 25.6 | P7: 无 | Q7: 无 | R7: 25 | S7: 2.5 | T7: 3.2 | U7: 4 | V7: 4.55 | W7: ASME
A8: 4 | B8: 32 | C8: 42.4 | D8: 38 | E8: 42.2 | F8: 无 | G8: =G7 -> 1.479 | H8: 1.8 | I8: 3.5 | J8: 4 | K8: 32 | L8: 无 | M8: 无 | N8: 无 | O8: =D8-I8*2 -> 31 | P8: 无 | Q8: 无 | R8: 32 | S8: 2.5 | T8: 3.5 | U8: 4 | V8: 4.85
A9: 5 | B9: 40 | C9: 48.3 | D9: 45 | E9: 48.3 | F9: 无 | G9: =G8 -> 1.479 | H9: 1.8 | I9: 3.5 | J9: 4.5 | K9: 40 | L9: 无 | M9: 无 | N9: 无 | O9: =D9-I9*2 -> 38 | P9: 无 | Q9: 无 | R9: 40 | S9: 2.75 | T9: 3.5 | U9: 4.5 | V9: 5.08
A10: 6 | B10: 50 | C10: 60.3 | D10: 57 | E10: 60.3 | F10: 66 | G10: =G9 -> 1.479 | H10: 2.2 | I10: 3.8 | J10: 4.5 | K10: 50 | L10: 无 | M10: 无 | N10: 46 | O10: =D10-I10*2 -> 49.4 | P10: =F10-2*Q10 -> 56.6 | Q10: 4.7 | R10: 50 | S10: 3 | T10: 3.8 | U10: 4.5 | V10: 5.54
A11: 7 | B11: 65 | C11: 73 | D11: 76 | E11: 73 | F11: 82 | G11: =G10 -> 1.479 | H11: 2.2 | I11: 4 | J11: 4.5 | K11: 65 | L11: 无 | M11: 无 | N11: 70.4 | O11: =D11-I11*2 -> 68 | P11: =F11-2*Q11 -> 72.6 | Q11: 4.7 | R11: 65 | S11: 3 | T11: 4 | U11: 4.5 | V11: 7.01
A12: 8 | B12: 80 | C12: 88.9 | D12: 89 | E12: 88.9 | F12: 98 | G12: =G11 -> 1.479 | H12: 2.2 | I12: 4 | J12: 5 | K12: 80 | L12: 90 | M12: 无 | N12: 71.4 | O12: =D12-I12*2 -> 81 | P12: =F12-2*Q12 -> 88.6 | Q12: 4.7 | R12: 80 | S12: 3.25 | T12: 4 | U12: 5 | V12: 7.62
A13: 9 | B13: 100 | C13: 114.3 | D13: 108 | E13: 114.3 | F13: 118 | G13: =G12 -> 1.479 | H13: =H12 -> 2.2 | I13: 4 | J13: 5 | K13: 100 | L13: 110 | M13: 100 | N13: 95 | O13: =D13-I13*2 -> 100 | P13: =F13-2*Q13 -> 108.6 | Q13: 4.7 | R13: 100 | S13: 3.25 | T13: 4 | U13: 5 | V13: 8.56
A14: 10 | B14: 125 | C14: 141.3 | D14: 133 | E14: 141.3 | F14: 144 | G14: =G13 -> 1.479 | H14: =H13 -> 2.2 | I14: 4 | J14: 5.5 | K14: 125 | L14: 136 | M14: 无 | N14: 120 | O14: =D14-I14*2 -> 125 | P14: =F14-2*Q14 -> 134.6 | Q14: 4.7 | R14: 125 | S14: 3.5 | T14: 4 | U14: 5.5 | V14: 9.53
A15: 11 | B15: 150 | C15: 168.3 | D15: 159 | E15: 168.3 | F15: 170 | G15: =G14 -> 1.479 | H15: =H14 -> 2.2 | I15: 4.5 | J15: 6 | K15: 150 | L15: 162 | M15: 150 | N15: 145 | O15: =D15-I15*2 -> 150 | P15: =F15-2*Q15 -> 160.6 | Q15: 4.7 | R15: 150 | S15: 3.5 | T15: 4.5 | U15: 6 | V15: 10.97
A16: 12 | B16: 200 | C16: 219.1 | D16: 219 | E16: 219.1 | F16: 222 | G16: 修改连接 | H16: 2.5 | I16: 6 | J16: 7 | K16: 200 | L16: 214 | M16: 200 | N16: 195 | O16: =D16-I16*2 -> 207 | P16: =F16-2*Q16 -> 212.4 | Q16: 4.8 | R16: 200 | S16: 4 | T16: 6 | U16: 7 | V16: 12.7
A17: 13 | B17: 250 | C17: 273 | D17: 273 | E17: 273 | F17: 274 | G17: 修改连接 | H17: 2.5 | I17: 无 | J17: 无 | K17: 250 | L17: 264 | M17: 250 | N17: 245 | O17: 252 | P17: =F17-2*Q17 -> 263.4 | Q17: 5.3
A18: 14 | B18: 300 | C18: 323.9 | D18: 325 | E18: 323.8 | F18: 326 | G18: 修改连接 | H18: 2.5 | I18: 无 | J18: 无 | K18: 300 | L18: 315 | M18: 300 | N18: 294 | O18: 305 | P18: =F18-2*Q18 -> 314.8 | Q18: 5.6
A19: 15 | B19: 350 | C19: 355.6 | D19: 377 | E19: 355.6 | F19: 378 | G19: 修改连接 | H19: 2.5 | I19: 无 | J19: 无 | K19: 350 | L19: 362 | M19: 350 | N19: 无 | O19: 357 | P19: =F19-2*Q19 -> 365.8 | Q19: 6.1
A20: 16 | B20: 400 | C20: 406.4 | D20: 426 | E20: 406.4 | F20: 429 | G20: 修改连接 | H20: 2.5 | I20: 无 | J20: 无 | K20: 400 | L20: 416 | M20: 400 | N20: 392 | O20: 400 | P20: =F20-2*Q20 -> 416.2 | Q20: 6.4
A21: 17 | B21: 450 | C21: 457 | D21: 480 | E21: 457 | F21: 480 | G21: 修改连接 | H21: 2.5 | I21: 无 | J21: 无 | K21: 450 | L21: 466 | M21: 450 | N21: 441 | O21: 450 | P21: =F21-2*Q21 -> 466.2 | Q21: 6.9
A22: 18 | B22: 500 | C22: 508 | D22: 530 | E22: 508 | F22: 532 | G22: 修改连接 | H22: 2.5 | I22: 无 | J22: 无 | K22: 500 | L22: 517 | M22: 500 | N22: 490 | O22: 500 | P22: =F22-2*Q22 -> 517.6 | Q22: 7.2
A23: 19 | B23: 600 | C23: 610 | D23: 630 | E23: 610 | F23: 635 | G23: 修改连接 | H23: 2.5 | I23: 无 | J23: 无 | K23: 600 | L23: 618 | M23: 600 | N23: 588 | O23: 600 | P23: =F23-2*Q23 -> 619 | Q23: 8.0
A24: 20 | B24: 700 | C24: 711 | D24: 720 | E24: 711 | F24: 738 | G24: 修改连接 | H24: 修改连接 | I24: 无 | J24: 无 | K24: 700 | L24: 720 | M24: 700 | N24: 673 | O24: 700 | P24: =F24-2*Q24 -> 720.4 | Q24: 8.8
A25: 21 | B25: 800 | C25: 813 | D25: 820 | E25: 813 | F25: 842 | G25: 修改连接 | H25: 修改连接 | I25: 无 | J25: 无 | K25: 800 | L25: 822 | M25: 800 | N25: 785 | O25: 800 | P25: =F25-2*Q25 -> 822.8 | Q25: 9.6
A26: 22 | B26: 900 | C26: 914 | D26: 920 | E26: 914 | F26: 945 | G26: 修改连接 | H26: 修改连接 | I26: 无 | J26: 无 | K26: 900 | L26: 924 | M26: 900 | N26: 885 | O26: 900 | P26: =F26-2*Q26 -> 924.2 | Q26: 10.4
A27: 23 | B27: 1000 | C27: 1016 | D27: 1020 | E27: 1016 | F27: 1048 | G27: 修改连接 | H27: 修改连接 | I27: 无 | J27: 无 | K27: 1000 | L27: 1025 | M27: 1000 | N27: 985 | O27: 1000 | P27: =F27-2*Q27 -> 1025.6 | Q27: 11.2
A28: 24 | B28: 1100 | C28: 1118 | D28: 1120 | E28: 1118 | F28: 1152 | G28: 修改连接 | H28: 修改连接 | I28: 无 | J28: 无 | K28: 1100 | L28: 1127 | M28: 1100 | N28: 1085 | O28: 1100 | P28: =F28-2*Q28 -> 1128 | Q28: 12.0
A29: 25 | B29: 1200 | C29: 1219 | D29: 1220 | E29: 1219 | F29: 1255 | G29: 修改连接 | H29: 修改连接 | I29: 无 | J29: 无 | K29: 1200 | L29: 1228 | M29: 1200 | N29: 1185 | O29: 1200 | P29: =F29-2*Q29 -> 1229.4 | Q29: 12.8
A30: 26 | B30: 1300 | C30: 1321 | D30: 1320 | E30: 1321 | F30: 无 | G30: 修改连接 | H30: 修改连接 | I30: 无 | J30: 无 | K30: 1300 | L30: 无 | M30: 无 | N30: 无 | O30: 1320 | P30: 无 | Q30: 无
A31: 27 | B31: 1400 | C31: 1422 | D31: 1420 | E31: 1422 | F31: 1462 | G31: 修改连接 | H31: 修改连接 | I31: 无 | J31: 无 | K31: 1400 | L31: 1430 | M31: 1400 | N31: 1385 | O31: 1400 | P31: =F31-2*Q31 -> 1433.2 | Q31: 14.4
A32: 28 | B32: 1500 | C32: 1524 | D32: 1520 | E32: 1524 | F32: 1565 | G32: 修改连接 | H32: 修改连接 | I32: 无 | J32: 无 | K32: 1500 | L32: 1532 | M32: 1500 | N32: 无 | O32: 1500 | P32: =F32-2*Q32 -> 1534.6 | Q32: 15.2
A33: 29 | B33: 1600 | C33: 1626 | D33: 1620 | E33: 1626 | F33: 1668 | G33: 修改连接 | H33: 修改连接 | I33: 无 | J33: 无 | K33: 1600 | L33: 1633 | M33: 1600 | N33: 1585 | O33: 1600 | P33: =F33-2*Q33 -> 1636 | Q33: 16.0
A34: 30 | B34: 1700 | C34: 1727 | D34: 1720 | E34: 1727 | F34: 无 | G34: 修改连接 | H34: 修改连接 | I34: 无 | J34: 无 | K34: 1700 | L34: 无 | M34: 无 | N34: 无 | O34: 1700
A35: 31 | B35: 1800 | C35: 1829 | D35: 1820 | E35: 1829 | F35: 1875 | G35: 修改连接 | H35: 修改连接 | I35: 无 | J35: 无 | K35: 1800 | L35: 1835 | M35: 1800 | N35: 1785 | O35: 1800 | P35: =F35-2*Q35 -> 1839.8 | Q35: 17.6
A36: 32 | B36: 1900 | C36: 1930 | D36: 1920 | E36: 1930 | F36: 无 | G36: 修改连接 | H36: 修改连接 | I36: 无 | J36: 无 | K36: 1900 | L36: 无 | M36: 无 | N36: 无 | O36: 1900 | P36: 无 | Q36: 无
A37: 33 | B37: 2000 | C37: 2032 | D37: 2020 | E37: 2032 | F37: 2082 | G37: 修改连接 | H37: 修改连接 | I37: 无 | J37: 无 | K37: 2000 | L37: 2038 | M37: 2000 | N37: 无 | O37: 2000 | P37: =F37-2*Q37 -> 2043.6 | Q37: 19.2
A38: 34 | B38: 2100 | C38: 2134 | D38: 2120 | E38: 无 | F38: 无 | G38: 修改连接 | H38: 修改连接 | I38: 无 | J38: 无 | K38: 2100 | L38: 无 | M38: 无 | N38: 无 | O38: 2100 | P38: 无 | Q38: 无
A39: 35 | B39: 2200 | C39: 2235 | D39: 2220 | E39: 无 | F39: 2288 | G39: 修改连接 | H39: 修改连接 | I39: 无 | J39: 无 | K39: 2200 | L39: 2240 | M39: 2200 | N39: 无 | O39: 2200 | P39: =F39-2*Q39 -> 2246.4 | Q39: 20.8
A40: 36 | B40: 2300 | C40: 2337 | D40: 2320 | E40: 无 | F40: 无 | G40: 修改连接 | H40: 修改连接 | I40: 无 | J40: 无 | K40: 2300 | L40: 无 | M40: 无 | N40: 无 | O40: 2300 | P40: 无 | Q40: 无
A41: 37 | B41: 2400 | C41: 2438 | D41: 2420 | E41: 无 | F41: 2495 | G41: 修改连接 | H41: 修改连接 | I41: 无 | J41: 无 | K41: 2400 | L41: 2444 | M41: 2400 | N41: 无 | O41: 2400 | P41: =F41-2*Q41 -> 2450.2 | Q41: 22.4
A42: 38 | B42: 2500 | C42: 2540 | D42: 2520 | E42: 无 | F42: 无 | G42: 修改连接 | H42: 修改连接 | I42: 无 | J42: 无 | K42: 2500 | L42: 无 | M42: 无 | N42: 无 | O42: 2500 | P42: 无 | Q42: 无
A43: 39 | B43: 2600 | C43: 2642 | D43: 2620 | E43: 无 | F43: 2702 | G43: 修改连接 | H43: 修改连接 | I43: 无 | J43: 无 | K43: 2600 | L43: 2646 | M43: 2600 | N43: 无 | O43: 2600 | P43: =F43-2*Q43 -> 2654 | Q43: 24.0

Sheet 钢管性能参数
B2: 钢号 | C2: 下屈服强度ReL | D2: 设计拉伸强度f | E2: 许用应力[σ]t | F2: 线型膨胀系数α
C3: MPa | D3: MPa | E3: MPa | F3: 1/K，10-5
A5: 焊接钢管 | B5: Q215B | C5: 215 | D5: 190 | E5: 100 | F5: 1.2e-05 | G5: GB/T3091
B6: Q235B | C6: 235 | D6: 215 | E6: 113 | F6: 1.2e-05
B7: Q275B | C7: 275 | D7: 245 | E7: 130 | F7: 1.2e-05
B8: Q345B | C8: 345 | D8: 310 | E8: 156 | F8: 1.2e-05
A9: 无缝钢管 | B9: 10 | C9: 195 | D9: 205 | E9: 111 | F9: 1.2e-05 | G9: GB/T 8163
B10: 20 | C10: 235 | D10: 245 | E10: 137 | F10: 1.2e-05
B11: Q345B | C11: 345 | D11: 310 | E11: 156 | F11: 1.2e-05
B12: Q390B | C12: 390 | D12: 350 | E12: 190 | F12: 1.2e-05
B13: Q420B | C13: 420 | D13: 380 | E13: 200 | F13: 1.2e-05
A14: 不锈钢 焊接钢管 无缝钢管 | B14: S304 | C14: 210 | D14: 205 | E14: 137 | F14: 1.6e-05 | G14: GB/T 14976 GB/T 12771
B15: S304L | C15: 180 | D15: 180 | E15: 118 | F15: 1.6e-05
B16: S316 | C16: 210 | D16: 205 | E16: 137 | F16: 1.6e-05
B17: S316L | C17: 180 | D17: 180 | E17: 118 | F17: 1.6e-05
B18: 自选 | C18: 500 | D18: 450 | E18: 270 | F18: 1.6e-05
B19: A级碳素结构钢的许用应力取表中值再乘以0.92。
B20: 红色数字为估算

Sheet 钢管选择
A2: 管材 | B2: 钢管类别 | C2: 壁厚 | D2: Fwk≤1.2 | E2: 1.2＜Fwk≤1.6 | F2: Fwk＞1.6
A3: 碳素钢 | B3: 焊接钢管 | C3: 标准厚STD（Sch40） | D3: 1 | E3: o | F3: o
C4: 加厚厚XS（Sch80） | D4: x | E4: 1 | F4: o
B5: 无缝钢管 | C5: 标准厚STD（Sch40S） | D5: x | E5: 1 | F5: 1、2
C6: 加厚厚XS（Sch80S） | D6: x | E6: x | F6: 1、2
C7: 最小壁厚 | D7: 2 | E7: 2 | F7: 2
A8: 不锈钢 | B8: 焊接钢管 | C8: 薄壁 | D8: 2、3 | E8: 2、3 | F8: o
C9: 最小壁厚 | D9: 2 | E9: 2 | F9: 2
C10: 标准厚STD（Sch40） | D10: 1（x） | E10: 2（x） | F10: o
C11: 加厚厚XS（Sch80） | D11: x | E11: 1（x） | F11: o
B12: 无缝钢管 | C12: 薄壁 | D12: 2、3 | E12: 2、3 | F12: o
C13: 最小壁厚 | D13: 2 | E13: 2 | F13: 2
C14: 标准厚STD（Sch40S） | D14: 1（x） | E14: 1（x） | F14: 1、2
C15: 加厚厚XS（Sch80S） | D15: x | E15: x | F15: 1、2
A16: 注：1-螺纹、卡箍；2-焊接、法兰；3-卡压等，x-不经济；o-不允许。
